BEGIN:VCALENDAR
VERSION:2.0
PRODID:-//Rockland News - No paywall. No paper. Just the facts. - ECPv6.15.20//NONSGML v1.0//EN
CALSCALE:GREGORIAN
METHOD:PUBLISH
X-WR-CALNAME:Rockland News - No paywall. No paper. Just the facts.
X-ORIGINAL-URL:https://rocklandnews.com
X-WR-CALDESC:Events for Rockland News - No paywall. No paper. Just the facts.
REFRESH-INTERVAL;VALUE=DURATION:PT1H
X-Robots-Tag:noindex
X-PUBLISHED-TTL:PT1H
BEGIN:VTIMEZONE
TZID:America/New_York
BEGIN:DAYLIGHT
TZOFFSETFROM:-0500
TZOFFSETTO:-0400
TZNAME:EDT
DTSTART:20200308T070000
END:DAYLIGHT
BEGIN:STANDARD
TZOFFSETFROM:-0400
TZOFFSETTO:-0500
TZNAME:EST
DTSTART:20201101T060000
END:STANDARD
BEGIN:DAYLIGHT
TZOFFSETFROM:-0500
TZOFFSETTO:-0400
TZNAME:EDT
DTSTART:20210314T070000
END:DAYLIGHT
BEGIN:STANDARD
TZOFFSETFROM:-0400
TZOFFSETTO:-0500
TZNAME:EST
DTSTART:20211107T060000
END:STANDARD
BEGIN:DAYLIGHT
TZOFFSETFROM:-0500
TZOFFSETTO:-0400
TZNAME:EDT
DTSTART:20220313T070000
END:DAYLIGHT
BEGIN:STANDARD
TZOFFSETFROM:-0400
TZOFFSETTO:-0500
TZNAME:EST
DTSTART:20221106T060000
END:STANDARD
END:VTIMEZONE
BEGIN:VEVENT
DTSTART;TZID=America/New_York:20210610T200000
DTEND;TZID=America/New_York:20210610T233000
DTSTAMP:20260424T165335
CREATED:20210606T132400Z
LAST-MODIFIED:20210916T182225Z
UID:1526-1623355200-1623367800@rocklandnews.com
SUMMARY:New City Comedy and Music Club Every Thursday\, Fridays\, and Saturdays 8PM
DESCRIPTION:NewCityComedy.com \nLocated at the old Pasta Cucina (now Gio’s Restaurant)\, New City Comedy is a new Comedy Club featuring top-tier comics from The Tonight Show\, Jimmy Kimmel\, and Comedy Central\, followed by no-cover music (Friday’s & Saturday’s) WITH a dance floor to make an amazing night out. Enjoys drinks\, dinner\, and snacks. \nOpening night is next Thursday\, June  10th\, and running through the weekend (Friday’s and Saturday’s) then all following weekends. All shows start at 8pm. Always check the website for details.\nNewCityComedy.com New City Comedy  \nPLEASE HELP US SPREAD THE WORD AND SHARE THIS WITH YOUR FRIENDS!!! \n$20.00 Cover and a $20.00 Drink and Food Minimum  \nGio’s Restaurant Upstairs\n253 South Little Tor Rd.\nNew City\, NY 10956 \n😃😃😃Comedy\, the Cure For Covid😃😃😃
URL:https://rocklandnews.com/event/new-city-comedy-and-music-club-every-thursday-fridays-and-saturdays-8pm/
CATEGORIES:Clarkstown,Haverstraw,Orangetown,Ramapo,Rockland,Stony Point
ATTACH;FMTTYPE=image/jpeg:https://rocklandnews.com/wp-content/uploads/2021/06/New-City-Comedy-and-Music-Logo.jpg
END:VEVENT
END:VCALENDAR